BEGIN:VCALENDAR
VERSION:2.0
PRODID:-// - ECPv6.15.8//NONSGML v1.0//EN
CALSCALE:GREGORIAN
METHOD:PUBLISH
X-ORIGINAL-URL:https://albanyclub.co.uk
X-WR-CALDESC:Events for 
REFRESH-INTERVAL;VALUE=DURATION:PT1H
X-Robots-Tag:noindex
X-PUBLISHED-TTL:PT1H
BEGIN:VTIMEZONE
TZID:UTC
BEGIN:STANDARD
TZOFFSETFROM:+0000
TZOFFSETTO:+0000
TZNAME:UTC
DTSTART:20230101T000000
END:STANDARD
END:VTIMEZONE
BEGIN:VEVENT
DTSTART;TZID=UTC:20240705T200000
DTEND;TZID=UTC:20240705T235900
DTSTAMP:20260421T053052
CREATED:20231203T184946Z
LAST-MODIFIED:20231203T184946Z
UID:647-1720209600-1720223940@albanyclub.co.uk
SUMMARY:Johnny Seven
DESCRIPTION:
URL:https://albanyclub.co.uk/events/johnny-seven/
LOCATION:The Albany Club Concert Room\, 10 Earlsdon St\, Coventry\, West Midlands\, CV5 6EG\, United Kingdom
END:VEVENT
BEGIN:VEVENT
DTSTART;TZID=UTC:20240712T200000
DTEND;TZID=UTC:20240712T235900
DTSTAMP:20260421T053052
CREATED:20231203T185059Z
LAST-MODIFIED:20231203T185059Z
UID:651-1720814400-1720828740@albanyclub.co.uk
SUMMARY:8 Ball Joe
DESCRIPTION:Bringing the best Rock\, Pop and Blues covers to Pubs\, Clubs\, Parties and Functions in the Midlands. Formed in 1989. Based in Coventry and Nuneaton
URL:https://albanyclub.co.uk/events/8-ball-joe-2/
LOCATION:The Albany Club Concert Room\, 10 Earlsdon St\, Coventry\, West Midlands\, CV5 6EG\, United Kingdom
END:VEVENT
BEGIN:VEVENT
DTSTART;TZID=UTC:20240713T200000
DTEND;TZID=UTC:20240714T010000
DTSTAMP:20260421T053052
CREATED:20231203T185132Z
LAST-MODIFIED:20240704T134151Z
UID:653-1720900800-1720918800@albanyclub.co.uk
SUMMARY:The Sirens
DESCRIPTION:The Sirens are an exciting powerhouse function band performing pop and rock and funk covers. Guaranteed to wow.
URL:https://albanyclub.co.uk/events/the-sirens-4/
LOCATION:The Albany Club Concert Room\, 10 Earlsdon St\, Coventry\, West Midlands\, CV5 6EG\, United Kingdom
END:VEVENT
BEGIN:VEVENT
DTSTART;TZID=UTC:20240719T200000
DTEND;TZID=UTC:20240719T235900
DTSTAMP:20260421T053052
CREATED:20231203T183449Z
LAST-MODIFIED:20231203T183449Z
UID:615-1721419200-1721433540@albanyclub.co.uk
SUMMARY:Smashed Vinyls
DESCRIPTION:A covers band from the West Midlands playing Britrock\, Punk/New Wave\, Indie\, 60s and more…
URL:https://albanyclub.co.uk/events/smashed-vinyls-2/
LOCATION:The Albany Club Concert Room\, 10 Earlsdon St\, Coventry\, West Midlands\, CV5 6EG\, United Kingdom
END:VEVENT
BEGIN:VEVENT
DTSTART;TZID=UTC:20240720T200000
DTEND;TZID=UTC:20240721T010000
DTSTAMP:20260421T053052
CREATED:20231203T185201Z
LAST-MODIFIED:20231203T185201Z
UID:655-1721505600-1721523600@albanyclub.co.uk
SUMMARY:Front Row
DESCRIPTION:Frontrow are a vibrant covers band based in Birmingham. We are here to entertain and to enjoy what we do.We play a variety of music from the 50’s to present day. Everything to get the party going. Seasoned musicians with powerful vocals\, who never fail to entertain.
URL:https://albanyclub.co.uk/events/front-row-3/
LOCATION:The Albany Club Concert Room\, 10 Earlsdon St\, Coventry\, West Midlands\, CV5 6EG\, United Kingdom
END:VEVENT
BEGIN:VEVENT
DTSTART;TZID=UTC:20240726T200000
DTEND;TZID=UTC:20240726T235900
DTSTAMP:20260421T053052
CREATED:20231203T175425Z
LAST-MODIFIED:20240725T133308Z
UID:588-1722024000-1722038340@albanyclub.co.uk
SUMMARY:Dark Horses
DESCRIPTION:Formed in 2012\, Dark Horses are five musicians who came together with the sole intention of breathing new life into classic rock songs from the late 1960’s onwards. David provides the powerful main vocals – and authentic sounding guitar\, bass and drums from Sam\, Mark and Steve complete the line-up.
URL:https://albanyclub.co.uk/events/dark-horses-3/
LOCATION:The Albany Club Concert Room\, 10 Earlsdon St\, Coventry\, West Midlands\, CV5 6EG\, United Kingdom
END:VEVENT
BEGIN:VEVENT
DTSTART;TZID=UTC:20240727T200000
DTEND;TZID=UTC:20240728T010000
DTSTAMP:20260421T053052
CREATED:20231203T173048Z
LAST-MODIFIED:20240725T133416Z
UID:565-1722110400-1722128400@albanyclub.co.uk
SUMMARY:The King of Diamonds
DESCRIPTION:Dave Dixon delights with the greatest songs from Elvis and Neil Diamond
URL:https://albanyclub.co.uk/events/skarnaby-street/
LOCATION:The Albany Club Concert Room\, 10 Earlsdon St\, Coventry\, West Midlands\, CV5 6EG\, United Kingdom
END:VEVENT
END:VCALENDAR