BEGIN:VCALENDAR
VERSION:2.0
PRODID:-// - ECPv6.15.8//NONSGML v1.0//EN
CALSCALE:GREGORIAN
METHOD:PUBLISH
X-ORIGINAL-URL:https://albanyclub.co.uk
X-WR-CALDESC:Events for 
REFRESH-INTERVAL;VALUE=DURATION:PT1H
X-Robots-Tag:noindex
X-PUBLISHED-TTL:PT1H
BEGIN:VTIMEZONE
TZID:UTC
BEGIN:STANDARD
TZOFFSETFROM:+0000
TZOFFSETTO:+0000
TZNAME:UTC
DTSTART:20230101T000000
END:STANDARD
END:VTIMEZONE
BEGIN:VEVENT
DTSTART;TZID=UTC:20241004T200000
DTEND;TZID=UTC:20241004T235900
DTSTAMP:20260420T234755
CREATED:20231203T183752Z
LAST-MODIFIED:20231203T183752Z
UID:625-1728072000-1728086340@albanyclub.co.uk
SUMMARY:Stone Punch
DESCRIPTION:Formed in 2014\, StonePunch are a female fronted\, heavy rock covers band who have already gained a good reputation across the Midlands and the UK. StonePunch have entertained crowds with their eclectic repertoire. The Classic Rock of ACDC\, Sabbath and Zeppelin is balanced by newer bands such as Rival Sons\, The Temperance Movement and Black Stone Cherry; Crowd pleasing floor fillers by Black Crowes and ZZ Top are included alongside Grunge classics by Pearl Jam and Nirvana. Anyone who loves rock music will find something to like about StonePunch.
URL:https://albanyclub.co.uk/events/stone-punch-2/
LOCATION:The Albany Club Concert Room\, 10 Earlsdon St\, Coventry\, West Midlands\, CV5 6EG\, United Kingdom
END:VEVENT
BEGIN:VEVENT
DTSTART;TZID=UTC:20241005T200000
DTEND;TZID=UTC:20241006T010000
DTSTAMP:20260420T234755
CREATED:20231203T185946Z
LAST-MODIFIED:20231203T185946Z
UID:683-1728158400-1728176400@albanyclub.co.uk
SUMMARY:ABBA Ever After
DESCRIPTION:Authentic ABBA Tribute Duo based in Coventry United Kingdom. Offering an all singing\, all dancing fabulous flares and feathers show. The girls are guaranteed to get you dancing\, jiving and having the time of your life!’ Amazing dance routines\, costumes and vocals.
URL:https://albanyclub.co.uk/events/abba-ever-after-2/
LOCATION:The Albany Club Concert Room\, 10 Earlsdon St\, Coventry\, West Midlands\, CV5 6EG\, United Kingdom
END:VEVENT
BEGIN:VEVENT
DTSTART;TZID=UTC:20241011T200000
DTEND;TZID=UTC:20241011T235900
DTSTAMP:20260420T234755
CREATED:20231203T183833Z
LAST-MODIFIED:20241001T134252Z
UID:627-1728676800-1728691140@albanyclub.co.uk
SUMMARY:Red Skies
DESCRIPTION:Red Skies are a 5-piece rock and pop covers band based in the Midlands\, featuring strong female and male vocals with three part harmonies\, lead and rhythm guitar\, keyboards\, bass guitar and live drums. \nWe play completely live and use no pre-recorded tracks. If you love live music and love the sound of classic rock and pop hits\,
URL:https://albanyclub.co.uk/events/redskies/
LOCATION:The Albany Club Concert Room\, 10 Earlsdon St\, Coventry\, West Midlands\, CV5 6EG\, United Kingdom
END:VEVENT
BEGIN:VEVENT
DTSTART;TZID=UTC:20241012T200000
DTEND;TZID=UTC:20241013T010000
DTSTAMP:20260420T234755
CREATED:20231203T184224Z
LAST-MODIFIED:20241001T134433Z
UID:643-1728763200-1728781200@albanyclub.co.uk
SUMMARY:Tin Dragons
DESCRIPTION:Tin Dragons is a sensational Midlands-based band\, covering some of the greatest songs of the ’80s\, ’90s and beyond\, often with a unique twist\, all designed to give you an amazing musical experience.
URL:https://albanyclub.co.uk/events/tindragons/
LOCATION:The Albany Club Concert Room\, 10 Earlsdon St\, Coventry\, West Midlands\, CV5 6EG\, United Kingdom
END:VEVENT
BEGIN:VEVENT
DTSTART;TZID=UTC:20241017T193000
DTEND;TZID=UTC:20241017T213000
DTSTAMP:20260420T234755
CREATED:20241001T134915Z
LAST-MODIFIED:20241001T134915Z
UID:1238-1729193400-1729200600@albanyclub.co.uk
SUMMARY:The Nigel Price Organ Trio
DESCRIPTION:“A good organ trio rarely fails to raise a smile\, but one like this can leave you feeling good for the rest of the day”\, says guest contributor\, guitarist Jamie Taylor.
URL:https://albanyclub.co.uk/events/the-nigel-price-organ-trio/
LOCATION:The Albany Club Concert Room\, 10 Earlsdon St\, Coventry\, West Midlands\, CV5 6EG\, United Kingdom
END:VEVENT
BEGIN:VEVENT
DTSTART;TZID=UTC:20241018T200000
DTEND;TZID=UTC:20241018T235900
DTSTAMP:20260420T234755
CREATED:20231203T190045Z
LAST-MODIFIED:20231203T190045Z
UID:685-1729281600-1729295940@albanyclub.co.uk
SUMMARY:Audio Junkies
DESCRIPTION:We love what we do\, it’s all about the tunes\, no gimmicks\, backing tracks or auto-tune shit – just four old dudes sharing our passion for Rock’n’Roll – not just another average thrown together covers band! With a raw-edgy tone\, crunching guitars and raspy vocals\, our contemporary punchy indie rock sound pumps out high-energy chart-topping tunes! With an eclectic set list\, we cover anything that works\, from the sixties to yesterday\, from the Stones to the Stereophonics! Gig time will guarantee a tsunami of floor filling anthems\, rammed with the old favourites\, as well as musical gems you probably wouldn’t expect. We do enjoy experimenting and injecting a little Junkie magic in to the odd pop song! Get yourself down to the next Junkies gig for some ear drum rattling action\, a real band rocking out top tunes\, hopefully you will enjoy the experience as much as we do!
URL:https://albanyclub.co.uk/events/audio-junkies-2/
LOCATION:The Albany Club Concert Room\, 10 Earlsdon St\, Coventry\, West Midlands\, CV5 6EG\, United Kingdom
END:VEVENT
BEGIN:VEVENT
DTSTART;TZID=UTC:20241019T200000
DTEND;TZID=UTC:20241020T010000
DTSTAMP:20260420T234755
CREATED:20231203T190114Z
LAST-MODIFIED:20241001T094048Z
UID:687-1729368000-1729386000@albanyclub.co.uk
SUMMARY:Sixties Retro
DESCRIPTION:Sixties Retro were first formed in 2001 from a group of friends who came to know each other at the legendary Earlsdon Cottage in Coventry. After 10 years involved in other projects the band has recently reformed and are taking the resurgent sixties scene by storm\, playing to packed houses all over the UK.
URL:https://albanyclub.co.uk/events/60sretro/
LOCATION:The Albany Club Concert Room\, 10 Earlsdon St\, Coventry\, West Midlands\, CV5 6EG\, United Kingdom
END:VEVENT
BEGIN:VEVENT
DTSTART;TZID=UTC:20241025T200000
DTEND;TZID=UTC:20241025T235900
DTSTAMP:20260420T234755
CREATED:20231203T183903Z
LAST-MODIFIED:20231203T183903Z
UID:629-1729886400-1729900740@albanyclub.co.uk
SUMMARY:Rock Brakken
DESCRIPTION:A guitar based soft rock covers band\, the same line up for over 10 years doing songs from the 70s up to recent times.
URL:https://albanyclub.co.uk/events/rock-brakken-2/
LOCATION:The Albany Club Concert Room\, 10 Earlsdon St\, Coventry\, West Midlands\, CV5 6EG\, United Kingdom
END:VEVENT
BEGIN:VEVENT
DTSTART;TZID=UTC:20241026T200000
DTEND;TZID=UTC:20241027T010000
DTSTAMP:20260420T234755
CREATED:20231203T190141Z
LAST-MODIFIED:20241023T140208Z
UID:689-1729972800-1729990800@albanyclub.co.uk
SUMMARY:The JFB's
DESCRIPTION:A Birmingham-based\, Jazz-Funk\, Latin\, Soul and R&B band performing original songs and covers.
URL:https://albanyclub.co.uk/events/the-jfbs/
LOCATION:The Albany Club Concert Room\, 10 Earlsdon St\, Coventry\, West Midlands\, CV5 6EG\, United Kingdom
END:VEVENT
END:VCALENDAR