BEGIN:VCALENDAR
VERSION:2.0
PRODID:-// - ECPv6.15.8//NONSGML v1.0//EN
CALSCALE:GREGORIAN
METHOD:PUBLISH
X-ORIGINAL-URL:https://albanyclub.co.uk
X-WR-CALDESC:Events for 
REFRESH-INTERVAL;VALUE=DURATION:PT1H
X-Robots-Tag:noindex
X-PUBLISHED-TTL:PT1H
BEGIN:VTIMEZONE
TZID:UTC
BEGIN:STANDARD
TZOFFSETFROM:+0000
TZOFFSETTO:+0000
TZNAME:UTC
DTSTART:20240101T000000
END:STANDARD
END:VTIMEZONE
BEGIN:VEVENT
DTSTART;TZID=UTC:20250201T213000
DTEND;TZID=UTC:20250202T000000
DTSTAMP:20260421T053053
CREATED:20241029T132619Z
LAST-MODIFIED:20241029T132707Z
UID:1315-1738445400-1738454400@albanyclub.co.uk
SUMMARY:Pumped Up Police
DESCRIPTION:Rock/ indie cover band\, based in Northants Covering classics from The Police\, and other bands …Nirvana\,AC/DC\, kaiser chiefs\, RATM\, duran duran\, Greenday\, Alien ant farm\, Kinks\, strokes\, supergrass\, and many more
URL:https://albanyclub.co.uk/events/pumped-up-police/
LOCATION:The Albany Club Concert Room\, 10 Earlsdon St\, Coventry\, West Midlands\, CV5 6EG\, United Kingdom
END:VEVENT
BEGIN:VEVENT
DTSTART;TZID=UTC:20250207T210000
DTEND;TZID=UTC:20250207T235000
DTSTAMP:20260421T053053
CREATED:20250127T161841Z
LAST-MODIFIED:20250127T161841Z
UID:1442-1738962000-1738972200@albanyclub.co.uk
SUMMARY:Ska'rnaby Street with Dave Dixon
DESCRIPTION:Dave Dixon bringing you the best in Ska\, Mod and Reggae.
URL:https://albanyclub.co.uk/events/skarnaby-street-with-dave-dixon/
LOCATION:The Albany Club Lounge
END:VEVENT
BEGIN:VEVENT
DTSTART;TZID=UTC:20250208T090000
DTEND;TZID=UTC:20250209T000000
DTSTAMP:20260421T053053
CREATED:20250127T162058Z
LAST-MODIFIED:20250127T162058Z
UID:1446-1739005200-1739059200@albanyclub.co.uk
SUMMARY:Party Popperz
DESCRIPTION:Originally formed as The Grimleys in 2002\, this 5-piece band went on to perform in front of audiences the length and breadth of the UK in all of the major holiday camps and hotel chains. Following the departure of one of the band members in 2008\, it was felt that a change of name was also required\, and The Party Popperz were born. \nThe Party Popperz‘s show is based on the high colour\, high impact sounds of the ’70s\, ’80s and ’90s from artists as diverse as David Bowie\, Queen\, Madness\, Sweet\, Prince\, Showaddywaddy and all the way through to Tom Jones and The Bee Gees. Each artist impersonated is performed in fully authentic costume by the brilliant and charismatic Chris Fielding. Chris’s highlights include appearing on “Stars In Their Eyes” as Gary Numan as well as appearing on the final PULP video single Bad Cover Version. \nThe band are seasoned musicians\, having served their apprenticeships alongside the likes of Barclay James Harvest\, Wizzard\, Screaming Lord Sutch and Billy J Kramer. There are no backing tracks of any kind\, and the aim of the band is to keep the dance floor buzzing throughout the evening.
URL:https://albanyclub.co.uk/events/party-popperz-3/
LOCATION:The Albany Club Concert Room\, 10 Earlsdon St\, Coventry\, West Midlands\, CV5 6EG\, United Kingdom
END:VEVENT
BEGIN:VEVENT
DTSTART;TZID=UTC:20250214T203000
DTEND;TZID=UTC:20250214T234500
DTSTAMP:20260421T053053
CREATED:20250127T162350Z
LAST-MODIFIED:20250127T162350Z
UID:1448-1739565000-1739576700@albanyclub.co.uk
SUMMARY:Ant Hill Mob
DESCRIPTION:The Ant Hill Mob are a 4-piece band based in the Midlands that pride themselves on their energetic\, eclectic range of tracks\, certain to get everyone on the dance floor having a boogie. \nWith a wide range of songs in their pocket\, they are perfect for all occasions
URL:https://albanyclub.co.uk/events/ant-hill-mob/
LOCATION:The Albany Club Lounge
END:VEVENT
BEGIN:VEVENT
DTSTART;TZID=UTC:20250215T210000
DTEND;TZID=UTC:20250216T000000
DTSTAMP:20260421T053053
CREATED:20241029T123252Z
LAST-MODIFIED:20250127T162635Z
UID:1289-1739653200-1739664000@albanyclub.co.uk
SUMMARY:Indiebox
DESCRIPTION:Indiebox are a 5 piece covers band playing the best\, most authentic indie rock anthems you will hear anywhere!We don’t do songs…….we do anthems!
URL:https://albanyclub.co.uk/events/indiebox/
LOCATION:The Albany Club Concert Room\, 10 Earlsdon St\, Coventry\, West Midlands\, CV5 6EG\, United Kingdom
END:VEVENT
BEGIN:VEVENT
DTSTART;TZID=UTC:20250222T210000
DTEND;TZID=UTC:20250223T000000
DTSTAMP:20260421T053053
CREATED:20250127T163238Z
LAST-MODIFIED:20250127T163238Z
UID:1454-1740258000-1740268800@albanyclub.co.uk
SUMMARY:Hitmen and Her
DESCRIPTION:Hitmen & Her perform a floor filling set of music to keep you dancing and singing all night. From timeless classic Motown hits to more modern numbers that will ensure the dance floor is packed!
URL:https://albanyclub.co.uk/events/hitmen-and-her/
LOCATION:The Albany Club Concert Room\, 10 Earlsdon St\, Coventry\, West Midlands\, CV5 6EG\, United Kingdom
END:VEVENT
BEGIN:VEVENT
DTSTART;TZID=UTC:20250228T210000
DTEND;TZID=UTC:20250228T233000
DTSTAMP:20260421T053053
CREATED:20250127T163404Z
LAST-MODIFIED:20250127T163404Z
UID:1456-1740776400-1740785400@albanyclub.co.uk
SUMMARY:The Stonehearts
DESCRIPTION:The Stonehearts are a 3-piece covers band based in Coventry taking on classic tracks by The Beatles\, Oasis\, Stereophonics\, Foo Fighters\, Weller and more!
URL:https://albanyclub.co.uk/events/the-stonehearts-3/
LOCATION:The Albany Club Lounge
END:VEVENT
END:VCALENDAR