BEGIN:VCALENDAR
VERSION:2.0
PRODID:-// - ECPv6.15.8//NONSGML v1.0//EN
CALSCALE:GREGORIAN
METHOD:PUBLISH
X-ORIGINAL-URL:https://albanyclub.co.uk
X-WR-CALDESC:Events for 
REFRESH-INTERVAL;VALUE=DURATION:PT1H
X-Robots-Tag:noindex
X-PUBLISHED-TTL:PT1H
BEGIN:VTIMEZONE
TZID:UTC
BEGIN:STANDARD
TZOFFSETFROM:+0000
TZOFFSETTO:+0000
TZNAME:UTC
DTSTART:20240101T000000
END:STANDARD
END:VTIMEZONE
BEGIN:VEVENT
DTSTART;TZID=UTC:20250301T210000
DTEND;TZID=UTC:20250302T000000
DTSTAMP:20260421T063819
CREATED:20250127T163607Z
LAST-MODIFIED:20250127T163607Z
UID:1458-1740862800-1740873600@albanyclub.co.uk
SUMMARY:General Wolfe
DESCRIPTION:Playing great covers of many of your favorite bands.
URL:https://albanyclub.co.uk/events/general-wolfe-3/
LOCATION:The Albany Club Concert Room\, 10 Earlsdon St\, Coventry\, West Midlands\, CV5 6EG\, United Kingdom
END:VEVENT
BEGIN:VEVENT
DTSTART;TZID=UTC:20250307T200000
DTEND;TZID=UTC:20250307T233000
DTSTAMP:20260421T063819
CREATED:20250225T163758Z
LAST-MODIFIED:20250225T163758Z
UID:1488-1741377600-1741390200@albanyclub.co.uk
SUMMARY:Straightheads
DESCRIPTION:Not just an ordinary covers band.. \n 
URL:https://albanyclub.co.uk/events/straightheads3/
LOCATION:The Albany Club Lounge
END:VEVENT
BEGIN:VEVENT
DTSTART;TZID=UTC:20250308T210000
DTEND;TZID=UTC:20250309T003000
DTSTAMP:20260421T063819
CREATED:20250225T164123Z
LAST-MODIFIED:20250225T164123Z
UID:1490-1741467600-1741480200@albanyclub.co.uk
SUMMARY:Audio Heroes
DESCRIPTION:This professional outfit\, with energetic fun loving young men\, cover songs from The Beatles and Elvis through to Kings Of Leon and Take That! They really do have the perfect set of songs to suit any occasion.\n\nAudio Heroes are the most flexible band – they play weddings\, university parties\, pubs\, nightclubs\, birthday parties\, wedding anniversary parties……. anywhere that wants amazing live energetic music!\n\nThey will happily tailor their set and their appearance to suit your event and your crowd.\n\nThe most exciting established young covers band in the UK – Audio Heroes – are here to entertain you and your friends and family by playing all of the best guitar tracks of the last 50 years.\n\nWe aim to please\, and have all the songs to entertain everyone and give you a fun packed entertaining night to remember! Weddings\, private parties\, nightclubs….you name it.
URL:https://albanyclub.co.uk/events/audio-heroes3/
LOCATION:The Albany Club Concert Room\, 10 Earlsdon St\, Coventry\, West Midlands\, CV5 6EG\, United Kingdom
END:VEVENT
BEGIN:VEVENT
DTSTART;TZID=UTC:20250314T200000
DTEND;TZID=UTC:20250314T235900
DTSTAMP:20260421T063819
CREATED:20250225T164522Z
LAST-MODIFIED:20250225T164522Z
UID:1492-1741982400-1741996740@albanyclub.co.uk
SUMMARY:Devoted to Rock
DESCRIPTION:Devoted To Rock was formed in March 2009\, with the intention of creating a great rock covers band. The nucleus of the band had been involved in cover bands before and had a desire to play great rock songs from the 70’s/80’s  right up to modern classics. The formula was to be simple\, play great songs that everyone knows\, that you can sing along to\, tap your foot to. Not tracks that make you finish your drink and move to a quieter venue. They were hoping their brand of music would go down well enough for them to enjoy a steady stream of dates. They were wrong. Since their first gig in April 2009 and with every other show they’ve played\, the performances have been so well received\, that the demand for the band has reached such a level\,  they can no longer play all the gigs they’re offered. In a short space of time they have became one of the busiest\, one of the most in demand\, and probably the best rock covers band playing the Midlands today. If you want to have a great night out and see a great show with one of the best bands on the circuit today\, then you have to catch Devoted To Rock\, the next time they’re playing at the Albany.
URL:https://albanyclub.co.uk/events/devoted-to-rock-4/
LOCATION:The Albany Club Lounge
END:VEVENT
BEGIN:VEVENT
DTSTART;TZID=UTC:20250315T210000
DTEND;TZID=UTC:20250316T010000
DTSTAMP:20260421T063819
CREATED:20250225T164644Z
LAST-MODIFIED:20250225T164644Z
UID:1494-1742072400-1742086800@albanyclub.co.uk
SUMMARY:Front Row
DESCRIPTION:Frontrow are a vibrant covers band based in Birmingham. We are here to entertain and to enjoy what we do.We play a variety of music from the 50’s to present day. Everything to get the party going. Seasoned musicians with powerful vocals\, who never fail to entertain.
URL:https://albanyclub.co.uk/events/front-row-5/
LOCATION:The Albany Club Concert Room\, 10 Earlsdon St\, Coventry\, West Midlands\, CV5 6EG\, United Kingdom
END:VEVENT
BEGIN:VEVENT
DTSTART;TZID=UTC:20250321T200000
DTEND;TZID=UTC:20250321T235900
DTSTAMP:20260421T063819
CREATED:20250225T164806Z
LAST-MODIFIED:20250225T164806Z
UID:1496-1742587200-1742601540@albanyclub.co.uk
SUMMARY:Dark Horses
DESCRIPTION:Formed in 2012\, Dark Horses are five musicians who came together with the sole intention of breathing new life into classic rock songs from the late 1960’s onwards. David provides the powerful main vocals – and authentic sounding guitar\, bass and drums from Sam\, Mark and Steve complete the line-up.
URL:https://albanyclub.co.uk/events/dark-horses-3-2/
LOCATION:The Albany Club Lounge
END:VEVENT
BEGIN:VEVENT
DTSTART;TZID=UTC:20250322T210000
DTEND;TZID=UTC:20250323T003000
DTSTAMP:20260421T063819
CREATED:20250225T165048Z
LAST-MODIFIED:20250225T165048Z
UID:1498-1742677200-1742689800@albanyclub.co.uk
SUMMARY:The Atomics
DESCRIPTION:The Atomics are a fabulous 4-piece live band\, playing all the best tunes from the late 70s early 80s new wave era. Performing songs by Blondie\, The Pretenders\, The Police\, Squeeze\, The Cars\, Bowie\, The Buzzcocks\, Adam and the Ants\, Duran Duran\, Bow Wow Wow\, Elvis Costello\, Talking Heads and many more!
URL:https://albanyclub.co.uk/events/the-atomics/
LOCATION:The Albany Club Concert Room\, 10 Earlsdon St\, Coventry\, West Midlands\, CV5 6EG\, United Kingdom
END:VEVENT
BEGIN:VEVENT
DTSTART;TZID=UTC:20250328T200000
DTEND;TZID=UTC:20250328T235900
DTSTAMP:20260421T063819
CREATED:20250225T165249Z
LAST-MODIFIED:20250225T165249Z
UID:1500-1743192000-1743206340@albanyclub.co.uk
SUMMARY:Lucas Rush
DESCRIPTION:The man of 1000 songs.
URL:https://albanyclub.co.uk/events/lucas-rush-1/
LOCATION:The Albany Club Lounge
END:VEVENT
BEGIN:VEVENT
DTSTART;TZID=UTC:20250329T203000
DTEND;TZID=UTC:20250330T003000
DTSTAMP:20260421T063819
CREATED:20250225T165401Z
LAST-MODIFIED:20250225T165401Z
UID:1502-1743280200-1743294600@albanyclub.co.uk
SUMMARY:AcSIA
DESCRIPTION:5 Piece Live band for any occasion. Add the DJ option for a complete night of top entertainment. Playing all the greatest tunes live for your big event. Number 1 in the midlands\, Pop\, Rock\, Indie\, chart\, Motown and more
URL:https://albanyclub.co.uk/events/acsia-1/
LOCATION:The Albany Club Concert Room\, 10 Earlsdon St\, Coventry\, West Midlands\, CV5 6EG\, United Kingdom
END:VEVENT
END:VCALENDAR