BEGIN:VCALENDAR
VERSION:2.0
PRODID:-// - ECPv6.15.8//NONSGML v1.0//EN
CALSCALE:GREGORIAN
METHOD:PUBLISH
X-ORIGINAL-URL:https://albanyclub.co.uk
X-WR-CALDESC:Events for 
REFRESH-INTERVAL;VALUE=DURATION:PT1H
X-Robots-Tag:noindex
X-PUBLISHED-TTL:PT1H
BEGIN:VTIMEZONE
TZID:UTC
BEGIN:STANDARD
TZOFFSETFROM:+0000
TZOFFSETTO:+0000
TZNAME:UTC
DTSTART:20240101T000000
END:STANDARD
END:VTIMEZONE
BEGIN:VEVENT
DTSTART;TZID=UTC:20250404T200000
DTEND;TZID=UTC:20250404T235900
DTSTAMP:20260421T080604
CREATED:20250225T165607Z
LAST-MODIFIED:20250225T165607Z
UID:1504-1743796800-1743811140@albanyclub.co.uk
SUMMARY:Gdansk
DESCRIPTION:Performing singalong classics from the 60s to current day. Beatles to Bowie to Buzzcocks to Blur. Danny Cunningham vocals – Ciarán Corks – Drummer James Bricknell Patrick Mitchell
URL:https://albanyclub.co.uk/events/gdansk-3-2/
LOCATION:The Albany Club Lounge
END:VEVENT
BEGIN:VEVENT
DTSTART;TZID=UTC:20250405T213000
DTEND;TZID=UTC:20250406T003000
DTSTAMP:20260421T080604
CREATED:20250225T165716Z
LAST-MODIFIED:20250225T165716Z
UID:1506-1743888600-1743899400@albanyclub.co.uk
SUMMARY:Six Foot Drop
DESCRIPTION:Six Foot Drop formed in early 2021 bringing together 4 experienced likeminded musicians with a desire to create something special. The idea was simply to be the very best they could be and play live as much as possible\, selecting covers from classic to modern rock\, ballads to floor fillers! Six Foot Drop offer an exciting\, entertaining musical experience to the smallest pub/private party to the largest festival/event or wedding.\n\nWe specialise in Weddings\, Parties\, Festivals\, Events and we love a good Pub gig . Great reviews and references available. Guaranteed to fill the dance floor.
URL:https://albanyclub.co.uk/events/six-foot-drop-1/
LOCATION:The Albany Club Concert Room\, 10 Earlsdon St\, Coventry\, West Midlands\, CV5 6EG\, United Kingdom
END:VEVENT
BEGIN:VEVENT
DTSTART;TZID=UTC:20250411T200000
DTEND;TZID=UTC:20250411T233000
DTSTAMP:20260421T080604
CREATED:20250225T165914Z
LAST-MODIFIED:20250225T165914Z
UID:1508-1744401600-1744414200@albanyclub.co.uk
SUMMARY:Last Lesson
DESCRIPTION:Last Lesson are a five piece band that play music from the 70’s to now including songs by artists such as ABBA\, Adelle\, Blondie and Jessie J.
URL:https://albanyclub.co.uk/events/last-lesson-3/
LOCATION:The Albany Club Lounge
END:VEVENT
BEGIN:VEVENT
DTSTART;TZID=UTC:20250412T203000
DTEND;TZID=UTC:20250412T233000
DTSTAMP:20260421T080604
CREATED:20250225T170054Z
LAST-MODIFIED:20250408T141941Z
UID:1510-1744489800-1744500600@albanyclub.co.uk
SUMMARY:Pumped Up Police
DESCRIPTION:Rock/ indie cover band\, based in Northants Covering classics from The Police\, and other bands …Nirvana\,AC/DC\, kaiser chiefs\, RATM\, duran duran\, Greenday\, Alien ant farm\, Kinks\, strokes\, supergrass\, and many more
URL:https://albanyclub.co.uk/events/pumpeduppolice/
LOCATION:The Albany Club Lounge
END:VEVENT
BEGIN:VEVENT
DTSTART;TZID=UTC:20250418T200000
DTEND;TZID=UTC:20250418T233000
DTSTAMP:20260421T080604
CREATED:20250225T170411Z
LAST-MODIFIED:20250225T170411Z
UID:1512-1745006400-1745019000@albanyclub.co.uk
SUMMARY:Bang on the Ear
DESCRIPTION:Bang on the Ear’ specialise in up beat traditional & contemporary Irish/Celtic Folk Rock songs.
URL:https://albanyclub.co.uk/events/bang-on-the-ear-3-2/
LOCATION:The Albany Club Lounge
END:VEVENT
BEGIN:VEVENT
DTSTART;TZID=UTC:20250419T200000
DTEND;TZID=UTC:20250420T010000
DTSTAMP:20260421T080604
CREATED:20250225T170550Z
LAST-MODIFIED:20250225T170550Z
UID:1514-1745092800-1745110800@albanyclub.co.uk
SUMMARY:Sixties Retro
DESCRIPTION:Sixties Retro were first formed in 2001 from a group of friends who came to know each other at the legendary Earlsdon Cottage in Coventry. After 10 years involved in other projects the band has recently reformed and are taking the resurgent sixties scene by storm\, playing to packed houses all over the UK.
URL:https://albanyclub.co.uk/events/sixties-retro-3/
LOCATION:The Albany Club Concert Room\, 10 Earlsdon St\, Coventry\, West Midlands\, CV5 6EG\, United Kingdom
END:VEVENT
BEGIN:VEVENT
DTSTART;TZID=UTC:20250420T203000
DTEND;TZID=UTC:20250420T223000
DTSTAMP:20260421T080604
CREATED:20250225T170730Z
LAST-MODIFIED:20250225T170730Z
UID:1516-1745181000-1745188200@albanyclub.co.uk
SUMMARY:ABBA Ever After
DESCRIPTION:Authentic ABBA Tribute Duo based in Coventry United Kingdom. Offering an all singing\, all dancing fabulous flares and feathers show. The girls are guaranteed to get you dancing\, jiving and having the time of your life!’ Amazing dance routines\, costumes and vocals.
URL:https://albanyclub.co.uk/events/abba-ever-after-3-2/
LOCATION:The Albany Club Lounge
END:VEVENT
BEGIN:VEVENT
DTSTART;TZID=UTC:20250425T200000
DTEND;TZID=UTC:20250425T235900
DTSTAMP:20260421T080604
CREATED:20250225T170850Z
LAST-MODIFIED:20250225T170850Z
UID:1518-1745611200-1745625540@albanyclub.co.uk
SUMMARY:Guitar Heroes
DESCRIPTION:A stunning tribute band to classic rock.
URL:https://albanyclub.co.uk/events/guitar-heroes-2-2/
LOCATION:The Albany Club Lounge
END:VEVENT
BEGIN:VEVENT
DTSTART;TZID=UTC:20250426T200000
DTEND;TZID=UTC:20250427T010000
DTSTAMP:20260421T080604
CREATED:20250225T170954Z
LAST-MODIFIED:20250225T170954Z
UID:1520-1745697600-1745715600@albanyclub.co.uk
SUMMARY:Hot2trot
DESCRIPTION:Hot2Trot are a Soul/Motown & Funk band comprising of super talented musicians spanning across a broad spectrum of the music industry. They play a variety of the biggest dance floor hits from some of the best well-known artists like Earth Wind and Fire\, Chaka Khan\, Stevie Wonder\, Diana Ross\, Marvin Gaye\, Chic\, Michael Jackson & many more. A tried & tested repertoire designed to move everyone to the dancefloor.
URL:https://albanyclub.co.uk/events/hot2trot-1/
LOCATION:The Albany Club Concert Room\, 10 Earlsdon St\, Coventry\, West Midlands\, CV5 6EG\, United Kingdom
END:VEVENT
END:VCALENDAR