BEGIN:VCALENDAR
VERSION:2.0
PRODID:-// - ECPv6.15.8//NONSGML v1.0//EN
CALSCALE:GREGORIAN
METHOD:PUBLISH
X-ORIGINAL-URL:https://albanyclub.co.uk
X-WR-CALDESC:Events for 
REFRESH-INTERVAL;VALUE=DURATION:PT1H
X-Robots-Tag:noindex
X-PUBLISHED-TTL:PT1H
BEGIN:VTIMEZONE
TZID:UTC
BEGIN:STANDARD
TZOFFSETFROM:+0000
TZOFFSETTO:+0000
TZNAME:UTC
DTSTART:20240101T000000
END:STANDARD
END:VTIMEZONE
BEGIN:VEVENT
DTSTART;TZID=UTC:20250704T210000
DTEND;TZID=UTC:20250704T233000
DTSTAMP:20260421T121147
CREATED:20250603T130912Z
LAST-MODIFIED:20250603T130912Z
UID:1700-1751662800-1751671800@albanyclub.co.uk
SUMMARY:Flashback
DESCRIPTION:Flashback are a 60’s and 70’s covers band from Nuneaton\, Warwickshire.
URL:https://albanyclub.co.uk/events/flashback/
LOCATION:The Albany Club Lounge
END:VEVENT
BEGIN:VEVENT
DTSTART;TZID=UTC:20250705T213000
DTEND;TZID=UTC:20250705T235900
DTSTAMP:20260421T121147
CREATED:20250603T131023Z
LAST-MODIFIED:20250603T144224Z
UID:1702-1751751000-1751759940@albanyclub.co.uk
SUMMARY:Front Row
DESCRIPTION:Frontrow are a vibrant covers band based in Birmingham. We are here to entertain and to enjoy what we do.We play a variety of music from the 50’s to present day. Everything to get the party going. Seasoned musicians with powerful vocals\, who never fail to entertain.
URL:https://albanyclub.co.uk/events/front-row-6/
LOCATION:The Albany Club Concert Room\, 10 Earlsdon St\, Coventry\, West Midlands\, CV5 6EG\, United Kingdom
END:VEVENT
BEGIN:VEVENT
DTSTART;TZID=UTC:20250711T203000
DTEND;TZID=UTC:20250711T233000
DTSTAMP:20260421T121147
CREATED:20250603T131123Z
LAST-MODIFIED:20250603T131123Z
UID:1704-1752265800-1752276600@albanyclub.co.uk
SUMMARY:The Rooters
DESCRIPTION:The Rooters were formed in 1991 touring throughout the country ever since delivering an authentic and passionate show in a celebration of classic rock. The band showcase songs from bands such as Thin Lizzy\, Queen\, Blue Oyster Cult\, Judas Priest\, Bon Jovi\, Thunder\, Journey\, Eagles\, Lynard Skynyrd\, UFO
URL:https://albanyclub.co.uk/events/the-rooters-2/
LOCATION:The Albany Club Lounge
END:VEVENT
BEGIN:VEVENT
DTSTART;TZID=UTC:20250712T213000
DTEND;TZID=UTC:20250712T235900
DTSTAMP:20260421T121147
CREATED:20250603T131325Z
LAST-MODIFIED:20250603T144148Z
UID:1706-1752355800-1752364740@albanyclub.co.uk
SUMMARY:Johnny Seven
DESCRIPTION:Mod & Punk classics performed with passion & power!See you down the front!
URL:https://albanyclub.co.uk/events/johnny-seven-3/
LOCATION:The Albany Club Concert Room\, 10 Earlsdon St\, Coventry\, West Midlands\, CV5 6EG\, United Kingdom
END:VEVENT
BEGIN:VEVENT
DTSTART;TZID=UTC:20250718T203000
DTEND;TZID=UTC:20250718T233000
DTSTAMP:20260421T121147
CREATED:20250603T131431Z
LAST-MODIFIED:20250603T131431Z
UID:1708-1752870600-1752881400@albanyclub.co.uk
SUMMARY:Red Skies
DESCRIPTION:Red Skies are a 5-piece rock and pop covers band based in the Midlands\, featuring strong female and male vocals with three part harmonies\, lead and rhythm guitar\, keyboards\, bass guitar and live drums. \nWe play completely live and use no pre-recorded tracks. If you love live music and love the sound of classic rock and pop hits\,
URL:https://albanyclub.co.uk/events/red-skies-2/
LOCATION:The Albany Club Lounge
END:VEVENT
BEGIN:VEVENT
DTSTART;TZID=UTC:20250719T213000
DTEND;TZID=UTC:20250719T235900
DTSTAMP:20260421T121147
CREATED:20250603T131553Z
LAST-MODIFIED:20250603T144126Z
UID:1711-1752960600-1752969540@albanyclub.co.uk
SUMMARY:Bang On The Ear
DESCRIPTION:Bang on the Ear’ specialise in up beat traditional & contemporary Irish/Celtic Folk Rock songs.
URL:https://albanyclub.co.uk/events/bang-on-the-ear/
LOCATION:The Albany Club Concert Room\, 10 Earlsdon St\, Coventry\, West Midlands\, CV5 6EG\, United Kingdom
END:VEVENT
BEGIN:VEVENT
DTSTART;TZID=UTC:20250725T203000
DTEND;TZID=UTC:20250725T233000
DTSTAMP:20260421T121147
CREATED:20250603T131938Z
LAST-MODIFIED:20250603T132019Z
UID:1713-1753475400-1753486200@albanyclub.co.uk
SUMMARY:The Sirens
DESCRIPTION:
URL:https://albanyclub.co.uk/events/sirens-2/
LOCATION:The Albany Club Lounge
END:VEVENT
BEGIN:VEVENT
DTSTART;TZID=UTC:20250726T213000
DTEND;TZID=UTC:20250726T235900
DTSTAMP:20260421T121147
CREATED:20250603T132130Z
LAST-MODIFIED:20250603T144104Z
UID:1716-1753565400-1753574340@albanyclub.co.uk
SUMMARY:ABBA Ever After
DESCRIPTION:Authentic ABBA Tribute Duo based in Coventry United Kingdom. Offering an all singing\, all dancing fabulous flares and feathers show. The girls are guaranteed to get you dancing\, jiving and having the time of your life!’ Amazing dance routines\, costumes and vocals.
URL:https://albanyclub.co.uk/events/abba-ever-after-4/
LOCATION:The Albany Club Concert Room\, 10 Earlsdon St\, Coventry\, West Midlands\, CV5 6EG\, United Kingdom
END:VEVENT
END:VCALENDAR