BEGIN:VCALENDAR
VERSION:2.0
PRODID:-// - ECPv6.15.8//NONSGML v1.0//EN
CALSCALE:GREGORIAN
METHOD:PUBLISH
X-ORIGINAL-URL:https://albanyclub.co.uk
X-WR-CALDESC:Events for 
REFRESH-INTERVAL;VALUE=DURATION:PT1H
X-Robots-Tag:noindex
X-PUBLISHED-TTL:PT1H
BEGIN:VTIMEZONE
TZID:UTC
BEGIN:STANDARD
TZOFFSETFROM:+0000
TZOFFSETTO:+0000
TZNAME:UTC
DTSTART:20250101T000000
END:STANDARD
END:VTIMEZONE
BEGIN:VEVENT
DTSTART;TZID=UTC:20260102T210000
DTEND;TZID=UTC:20260102T233000
DTSTAMP:20260420T070525
CREATED:20251010T144838Z
LAST-MODIFIED:20251010T144838Z
UID:2018-1767387600-1767396600@albanyclub.co.uk
SUMMARY:The Smashed Vinyls
DESCRIPTION:A covers band from the West Midlands playing Britrock\, Punk/New Wave\, Indie\, 60s and more…
URL:https://albanyclub.co.uk/events/the-smashed-vinyls-4/
LOCATION:The Albany Club Lounge
END:VEVENT
BEGIN:VEVENT
DTSTART;TZID=UTC:20260103T210000
DTEND;TZID=UTC:20260103T235900
DTSTAMP:20260420T070525
CREATED:20251010T144941Z
LAST-MODIFIED:20251010T144941Z
UID:2020-1767474000-1767484740@albanyclub.co.uk
SUMMARY:Tin Dragons
DESCRIPTION:Tin Dragons is a sensational Midlands-based band\, covering some of the greatest songs of the ’80s\, ’90s and beyond\, often with a unique twist\, all designed to give you an amazing musical experience.
URL:https://albanyclub.co.uk/events/tin-dragons-5/
LOCATION:The Albany Club Concert Room\, 10 Earlsdon St\, Coventry\, West Midlands\, CV5 6EG\, United Kingdom
END:VEVENT
BEGIN:VEVENT
DTSTART;TZID=UTC:20260109T203000
DTEND;TZID=UTC:20260109T233000
DTSTAMP:20260420T070525
CREATED:20250127T162903Z
LAST-MODIFIED:20260108T154503Z
UID:1452-1767990600-1768001400@albanyclub.co.uk
SUMMARY:Hunky Davy
DESCRIPTION:HunkyDavy\, formed in the summer of 2015\, pays tribute to David Bowie by performing his greatest songs
URL:https://albanyclub.co.uk/events/hunky-davy/
LOCATION:The Albany Club Lounge
END:VEVENT
BEGIN:VEVENT
DTSTART;TZID=UTC:20260110T213000
DTEND;TZID=UTC:20260110T235500
DTSTAMP:20260420T070525
CREATED:20241029T132113Z
LAST-MODIFIED:20260108T155737Z
UID:1311-1768080600-1768089300@albanyclub.co.uk
SUMMARY:Six Foot Drop
DESCRIPTION:Six Foot Drop formed in early 2021 bringing together 4 experienced likeminded musicians with a desire to create something special. The idea was simply to be the very best they could be and play live as much as possible\, selecting covers from classic to modern rock\, ballads to floor fillers! Six Foot Drop offer an exciting\, entertaining musical experience to the smallest pub/private party to the largest festival/event or wedding.\n\nWe specialise in Weddings\, Parties\, Festivals\, Events and we love a good Pub gig . Great reviews and references available. Guaranteed to fill the dance floor.
URL:https://albanyclub.co.uk/events/six-foot-drop/
LOCATION:The Albany Club Concert Room\, 10 Earlsdon St\, Coventry\, West Midlands\, CV5 6EG\, United Kingdom
END:VEVENT
BEGIN:VEVENT
DTSTART;TZID=UTC:20260116T210000
DTEND;TZID=UTC:20260116T233000
DTSTAMP:20260420T070525
CREATED:20260113T165715Z
LAST-MODIFIED:20260113T165736Z
UID:2121-1768597200-1768606200@albanyclub.co.uk
SUMMARY:The Re-Covered
DESCRIPTION:The Re-Covered are a 4 / 5 piece party band that play a mixture of rock\, pop and funk; Led Zep\, AC/DC\, Sabbath\, The Eagles\, Lynard Skynard\, The Doors\, The Stones and more.
URL:https://albanyclub.co.uk/events/recovered/
LOCATION:The Albany Club Lounge
END:VEVENT
BEGIN:VEVENT
DTSTART;TZID=UTC:20260117T213000
DTEND;TZID=UTC:20260117T235900
DTSTAMP:20260420T070525
CREATED:20260113T170040Z
LAST-MODIFIED:20260113T170040Z
UID:2124-1768685400-1768694340@albanyclub.co.uk
SUMMARY:Led By Miss Fortune
DESCRIPTION:Rock cover band from Bedworth / Coventry area of the UK
URL:https://albanyclub.co.uk/events/led-by-miss-fortune/
LOCATION:The Albany Club Concert Room\, 10 Earlsdon St\, Coventry\, West Midlands\, CV5 6EG\, United Kingdom
END:VEVENT
BEGIN:VEVENT
DTSTART;TZID=UTC:20260123T210000
DTEND;TZID=UTC:20260123T233000
DTSTAMP:20260420T070525
CREATED:20260120T135802Z
LAST-MODIFIED:20260120T135802Z
UID:2137-1769202000-1769211000@albanyclub.co.uk
SUMMARY:8 Ball Joe
DESCRIPTION:Bringing the best Rock\, Pop and Blues covers to Pubs\, Clubs\, Parties and Functions in the Midlands. Formed in 1989. Based in Coventry and Nuneaton
URL:https://albanyclub.co.uk/events/8-ball-joe-6/
LOCATION:The Albany Club Lounge
END:VEVENT
BEGIN:VEVENT
DTSTART;TZID=UTC:20260124T213000
DTEND;TZID=UTC:20260124T235900
DTSTAMP:20260420T070525
CREATED:20260120T135912Z
LAST-MODIFIED:20260120T135912Z
UID:2139-1769290200-1769299140@albanyclub.co.uk
SUMMARY:Frontrow
DESCRIPTION:Frontrow are a vibrant covers band based in Birmingham. We are here to entertain and to enjoy what we do.We play a variety of music from the 50’s to present day. Everything to get the party going. Seasoned musicians with powerful vocals\, who never fail to entertain.
URL:https://albanyclub.co.uk/events/frontrow/
LOCATION:The Albany Club Concert Room\, 10 Earlsdon St\, Coventry\, West Midlands\, CV5 6EG\, United Kingdom
END:VEVENT
BEGIN:VEVENT
DTSTART;TZID=UTC:20260130T210000
DTEND;TZID=UTC:20260130T233000
DTSTAMP:20260420T070525
CREATED:20260120T140119Z
LAST-MODIFIED:20260120T140119Z
UID:2141-1769806800-1769815800@albanyclub.co.uk
SUMMARY:The Imposters
DESCRIPTION:The Imposters are a lively covers band playing ska\, indie\, and alternative hits. With high-energy performances and crowd-favorite tunes\, they bring the party to any event.
URL:https://albanyclub.co.uk/events/the-imposters/
LOCATION:The Albany Club Lounge
END:VEVENT
BEGIN:VEVENT
DTSTART;TZID=UTC:20260131T213000
DTEND;TZID=UTC:20260131T235900
DTSTAMP:20260420T070525
CREATED:20260120T140329Z
LAST-MODIFIED:20260120T140329Z
UID:2143-1769895000-1769903940@albanyclub.co.uk
SUMMARY:Elvis and the RCA Band
DESCRIPTION:Anyone who’s ever seen Elvis live knows that the King was always in charge. The band follows his every move as he speeds them up\, slows them down and controls the dynamic of the whole performance. \nDave Dixon\, true to The King’s legacy\, leads from the front. His energy and charismatic delivery drives the show beautifully supported by the excellent RCA Band. \nFor an unforgettable Elvis experience that looks great\, sounds great and remains true to the memory of The King just give us a call. \nYou’re in for a great night.
URL:https://albanyclub.co.uk/events/elvis-and-the-rca-band/
LOCATION:The Albany Club Concert Room\, 10 Earlsdon St\, Coventry\, West Midlands\, CV5 6EG\, United Kingdom
END:VEVENT
END:VCALENDAR