BEGIN:VCALENDAR
VERSION:2.0
PRODID:-// - ECPv6.15.8//NONSGML v1.0//EN
CALSCALE:GREGORIAN
METHOD:PUBLISH
X-ORIGINAL-URL:https://albanyclub.co.uk
X-WR-CALDESC:Events for 
REFRESH-INTERVAL;VALUE=DURATION:PT1H
X-Robots-Tag:noindex
X-PUBLISHED-TTL:PT1H
BEGIN:VTIMEZONE
TZID:UTC
BEGIN:STANDARD
TZOFFSETFROM:+0000
TZOFFSETTO:+0000
TZNAME:UTC
DTSTART:20250101T000000
END:STANDARD
END:VTIMEZONE
BEGIN:VEVENT
DTSTART;TZID=UTC:20260306T210000
DTEND;TZID=UTC:20260306T233000
DTSTAMP:20260420T035734
CREATED:20260120T142130Z
LAST-MODIFIED:20260120T142130Z
UID:2161-1772830800-1772839800@albanyclub.co.uk
SUMMARY:Rock Brakken
DESCRIPTION:A guitar based soft rock covers band\, the same line up for over 10 years doing songs from the 70s up to recent times
URL:https://albanyclub.co.uk/events/rock-brakken-4/
LOCATION:The Albany Club Lounge
END:VEVENT
BEGIN:VEVENT
DTSTART;TZID=UTC:20260307T213000
DTEND;TZID=UTC:20260307T235900
DTSTAMP:20260420T035734
CREATED:20260120T142525Z
LAST-MODIFIED:20260305T143243Z
UID:2163-1772919000-1772927940@albanyclub.co.uk
SUMMARY:Gdansk
DESCRIPTION:Performing singalong classics from the 60s to current day. Beatles to Bowie to Buzzcocks to Blur. Danny Cunningham vocals – Ciarán Corks – Drummer James Bricknell and Patrick Mitchell
URL:https://albanyclub.co.uk/events/gdansk-5/
LOCATION:The Albany Club Concert Room\, 10 Earlsdon St\, Coventry\, West Midlands\, CV5 6EG\, United Kingdom
END:VEVENT
BEGIN:VEVENT
DTSTART;TZID=UTC:20260312T203000
DTEND;TZID=UTC:20260312T223000
DTSTAMP:20260420T035734
CREATED:20260311T171912Z
LAST-MODIFIED:20260311T171912Z
UID:2254-1773347400-1773354600@albanyclub.co.uk
SUMMARY:The Jexit
DESCRIPTION:The Jexit is a Japanese fronted THE JAM tribute band originally from Japan. We play across the world.
URL:https://albanyclub.co.uk/events/the-jexit-4/
LOCATION:The Albany Club Lounge
END:VEVENT
BEGIN:VEVENT
DTSTART;TZID=UTC:20260313T210000
DTEND;TZID=UTC:20260313T233000
DTSTAMP:20260420T035734
CREATED:20260120T143025Z
LAST-MODIFIED:20260120T143025Z
UID:2165-1773435600-1773444600@albanyclub.co.uk
SUMMARY:Audio Heroes
DESCRIPTION:The Audio Heroes are one of the most energetic and exciting bands around. \nTheir reputation is second to none. They are one of the most in -demand bands in the UK \nThe Audio Heroes have been thrilling audiences since 2007. \nThey have played numerous functions ranging from universities and colleges to corporate events and balls. \nWith a great mix of modern and classic pop & rock songs spanning 50 years their repertoire is designed to keep your dance floor rocking. \nThey cover everything from The Kinks and T-Rex to Bon Jovi\, Snow Patrol\, The Kings of Leon and The Killers. \nThe Audio Heroes really are the perfect great entertainment
URL:https://albanyclub.co.uk/events/audio-heroes-3/
LOCATION:The Albany Club Lounge
END:VEVENT
BEGIN:VEVENT
DTSTART;TZID=UTC:20260314T213000
DTEND;TZID=UTC:20260314T235500
DTSTAMP:20260420T035734
CREATED:20260310T142733Z
LAST-MODIFIED:20260311T172006Z
UID:2243-1773523800-1773532500@albanyclub.co.uk
SUMMARY:Catch 22
DESCRIPTION:A lively\, upbeat band from Birmingham. Playing the best songs from the 60’s to the present\, they’re guaranteed to keep the dance floor full all night\, singing and playing hits across the decades\, for your entertainment and enjoyment
URL:https://albanyclub.co.uk/events/catch-22/
LOCATION:The Albany Club Concert Room\, 10 Earlsdon St\, Coventry\, West Midlands\, CV5 6EG\, United Kingdom
END:VEVENT
BEGIN:VEVENT
DTSTART;TZID=UTC:20260320T210000
DTEND;TZID=UTC:20260320T233000
DTSTAMP:20260420T035734
CREATED:20260120T143341Z
LAST-MODIFIED:20260120T143341Z
UID:2167-1774040400-1774049400@albanyclub.co.uk
SUMMARY:Re:Offenders
DESCRIPTION:A Coventry based covers band playing classic and contemporary punk and new wave\, including The Clash\, The Jam\, The Stranglers\, Blondie\, Elvis Costello\, The Buzzcocks and many more….
URL:https://albanyclub.co.uk/events/reoffenders-4/
LOCATION:The Albany Club Lounge
END:VEVENT
BEGIN:VEVENT
DTSTART;TZID=UTC:20260321T210000
DTEND;TZID=UTC:20260321T235900
DTSTAMP:20260420T035734
CREATED:20260120T143638Z
LAST-MODIFIED:20260120T143638Z
UID:2169-1774126800-1774137540@albanyclub.co.uk
SUMMARY:Vox Pockets
DESCRIPTION:Vox Pockets are a 6 piece covers band based primarily around Derbyshire within the Midlands of the UK. Playing hits from across the decades which are guaranteed to fill the dancefloor! \nComprised of highly skilled\, experienced musicans (who happen to be good friends)\, Vox Pockets focus on providing a “feel good” vibe and keeping the energy up to get the good times flowing
URL:https://albanyclub.co.uk/events/vox-pockets/
LOCATION:The Albany Club Concert Room\, 10 Earlsdon St\, Coventry\, West Midlands\, CV5 6EG\, United Kingdom
END:VEVENT
BEGIN:VEVENT
DTSTART;TZID=UTC:20260327T210000
DTEND;TZID=UTC:20260327T233000
DTSTAMP:20260420T035734
CREATED:20260120T143954Z
LAST-MODIFIED:20260326T182402Z
UID:2171-1774645200-1774654200@albanyclub.co.uk
SUMMARY:The Armadillos
DESCRIPTION:
URL:https://albanyclub.co.uk/events/the-armadillos/
LOCATION:The Albany Club Lounge
END:VEVENT
BEGIN:VEVENT
DTSTART;TZID=UTC:20260328T213000
DTEND;TZID=UTC:20260328T235900
DTSTAMP:20260420T035734
CREATED:20260120T144446Z
LAST-MODIFIED:20260120T144446Z
UID:2173-1774733400-1774742340@albanyclub.co.uk
SUMMARY:Hitmen and Her
DESCRIPTION:Hitmen & Her are a fantastic wedding  band\, comprised of highly professional musicians with tight vocals\, sublime horns and awesome rhythm section guaranteed to have you dancing all night!
URL:https://albanyclub.co.uk/events/hitmen-and-her-3/
LOCATION:The Albany Club Concert Room\, 10 Earlsdon St\, Coventry\, West Midlands\, CV5 6EG\, United Kingdom
END:VEVENT
END:VCALENDAR